BEGIN:VCALENDAR
VERSION:2.0
PRODID:-//time.now/holidays//NONSGML v1.0//EN
BEGIN:VEVENT
UID:1bed2039-955d-4017-8d9a-5e00e48d8140
DTSTAMP:20260420T032130Z
DTSTART;VALUE=DATE:20260406
SUMMARY:Easter Monday (Belgique)
END:VEVENT
END:VCALENDAR