BEGIN:VCALENDAR
VERSION:2.0
PRODID:-//time.now/holidays//NONSGML v1.0//EN
BEGIN:VEVENT
UID:9050303e-197a-4643-a0b7-f571853d2d3c
DTSTAMP:20260420T171913Z
DTSTART;VALUE=DATE:20261101
SUMMARY:All Saints' Day (Belgique)
END:VEVENT
END:VCALENDAR