BEGIN:VCALENDAR
VERSION:2.0
PRODID:-//time.now/holidays//NONSGML v1.0//EN
BEGIN:VEVENT
UID:5572d0e7-fd71-41b8-a4d8-97403f9af349
DTSTAMP:20260422T193023Z
DTSTART;VALUE=DATE:20260101
SUMMARY:New Year's Day (Biélorussie)
END:VEVENT
END:VCALENDAR