BEGIN:VCALENDAR
VERSION:2.0
PRODID:-//time.now/holidays//NONSGML v1.0//EN
BEGIN:VEVENT
UID:64449a93-9bc3-4e81-b5df-6372e210a8c1
DTSTAMP:20260421T041041Z
DTSTART;VALUE=DATE:20260703
SUMMARY:Independence Day of the Republic of Belarus (Day of the Republic) (Biélorussie)
END:VEVENT
END:VCALENDAR