BEGIN:VCALENDAR
VERSION:2.0
PRODID:-//time.now/holidays//NONSGML v1.0//EN
BEGIN:VEVENT
UID:506d95b1-bffd-4b58-a3cf-c164da8d3299
DTSTAMP:20260423T030258Z
DTSTART;VALUE=DATE:20220502
SUMMARY:Day off (substituted from 05/14/2022) (Biélorussie)
END:VEVENT
END:VCALENDAR