BEGIN:VCALENDAR
VERSION:2.0
PRODID:-//time.now/holidays//NONSGML v1.0//EN
BEGIN:VEVENT
UID:945ae0fc-5fb9-4111-bcc5-092d1e7eaea7
DTSTAMP:20260420T162745Z
DTSTART;VALUE=DATE:20220307
SUMMARY:Day off (substituted from 03/12/2022) (Biélorussie)
END:VEVENT
END:VCALENDAR