BEGIN:VCALENDAR
VERSION:2.0
PRODID:-//time.now/holidays//NONSGML v1.0//EN
BEGIN:VEVENT
UID:1470ce87-bb4a-4a24-beb3-71ded9716551
DTSTAMP:20260420T052215Z
DTSTART;VALUE=DATE:20280416
SUMMARY:Catholic Easter; Orthodox Easter (Biélorussie)
END:VEVENT
END:VCALENDAR