BEGIN:VCALENDAR
VERSION:2.0
PRODID:-//time.now/holidays//NONSGML v1.0//EN
BEGIN:VEVENT
UID:34091897-7f00-4d6e-ba0e-d1f3cee488aa
DTSTAMP:20260420T030419Z
DTSTART;VALUE=DATE:20260403
SUMMARY:Good Friday (Barbade)
END:VEVENT
END:VCALENDAR