BEGIN:VCALENDAR
VERSION:2.0
PRODID:-//time.now/holidays//NONSGML v1.0//EN
BEGIN:VEVENT
UID:18b54c1d-3bc5-4ae9-ac26-158ee94cc67b
DTSTAMP:20260420T203513Z
DTSTART;VALUE=DATE:20261216
SUMMARY:Victory Day (Bangladesh)
END:VEVENT
END:VCALENDAR