BEGIN:VCALENDAR
VERSION:2.0
PRODID:-//time.now/holidays//NONSGML v1.0//EN
BEGIN:VEVENT
UID:9225c74a-a1b9-4353-8dc9-bad165de4b63
DTSTAMP:20260420T175022Z
DTSTART;VALUE=DATE:20260825
SUMMARY:Prophet's Birthday (estimated) (Bahreïn)
END:VEVENT
END:VCALENDAR