BEGIN:VCALENDAR
VERSION:2.0
PRODID:-//time.now/holidays//NONSGML v1.0//EN
BEGIN:VEVENT
UID:f38ba1d7-8e22-4461-8954-a06bca2d5072
DTSTAMP:20260420T141357Z
DTSTART;VALUE=DATE:20260101
SUMMARY:New Year's Day (Bahreïn)
END:VEVENT
END:VCALENDAR