BEGIN:VCALENDAR
VERSION:2.0
PRODID:-//time.now/holidays//NONSGML v1.0//EN
BEGIN:VEVENT
UID:f3091765-8b75-4699-940c-82591d41ef58
DTSTAMP:20260420T152519Z
DTSTART;VALUE=DATE:20260616
SUMMARY:Islamic New Year (estimated) (Bahreïn)
END:VEVENT
END:VCALENDAR