BEGIN:VCALENDAR
VERSION:2.0
PRODID:-//time.now/holidays//NONSGML v1.0//EN
BEGIN:VEVENT
UID:2b7ac5d6-0147-43b6-a271-4dd69aed6e88
DTSTAMP:20260422T151510Z
DTSTART;VALUE=DATE:20260321
SUMMARY:Eid al-Fitr Holiday (estimated) (Bahreïn)
END:VEVENT
END:VCALENDAR