BEGIN:VCALENDAR
VERSION:2.0
PRODID:-//time.now/holidays//NONSGML v1.0//EN
BEGIN:VEVENT
UID:ba50f4e6-f109-418b-b332-3022cd099ebe
DTSTAMP:20260420T192701Z
DTSTART;VALUE=DATE:20260320
SUMMARY:Eid al-Fitr (estimated) (Bahreïn)
END:VEVENT
END:VCALENDAR