BEGIN:VCALENDAR
VERSION:2.0
PRODID:-//time.now/holidays//NONSGML v1.0//EN
BEGIN:VEVENT
UID:f795f6f1-9cb1-48d4-9ae7-e53447cf0123
DTSTAMP:20260420T162557Z
DTSTART;VALUE=DATE:20260527
SUMMARY:Eid al-Adha (estimated) (Bahreïn)
END:VEVENT
END:VCALENDAR