BEGIN:VCALENDAR
VERSION:2.0
PRODID:-//time.now/holidays//NONSGML v1.0//EN
BEGIN:VEVENT
UID:67081fc2-432b-4ff7-a575-08d281ebdbee
DTSTAMP:20260420T193800Z
DTSTART;VALUE=DATE:20331227
SUMMARY:Christmas Day (observed) (Bahamas)
END:VEVENT
END:VCALENDAR