BEGIN:VCALENDAR
VERSION:2.0
PRODID:-//time.now/holidays//NONSGML v1.0//EN
BEGIN:VEVENT
UID:fa37b33c-0fb7-4524-8780-add21cc860ee
DTSTAMP:20260422T091136Z
DTSTART;VALUE=DATE:20260509
SUMMARY:Victory over Fascism Day (Azerbaïdjan)
END:VEVENT
END:VCALENDAR