BEGIN:VCALENDAR
VERSION:2.0
PRODID:-//time.now/holidays//NONSGML v1.0//EN
BEGIN:VEVENT
UID:bbc82831-6ebf-4bbe-bc24-cb2dba470e88
DTSTAMP:20260422T092316Z
DTSTART;VALUE=DATE:20260511
SUMMARY:Victory over Fascism Day (observed) (Azerbaïdjan)
END:VEVENT
END:VCALENDAR