BEGIN:VCALENDAR
VERSION:2.0
PRODID:-//time.now/holidays//NONSGML v1.0//EN
BEGIN:VEVENT
UID:591e1514-c1b0-40bc-81c2-4be5286ce5da
DTSTAMP:20260420T170621Z
DTSTART;VALUE=DATE:20261110
SUMMARY:Victory Day (observed) (Azerbaïdjan)
END:VEVENT
END:VCALENDAR