BEGIN:VCALENDAR
VERSION:2.0
PRODID:-//time.now/holidays//NONSGML v1.0//EN
BEGIN:VEVENT
UID:f5fce3cc-8936-4529-aae4-61f07a0f472e
DTSTAMP:20260420T203505Z
DTSTART;VALUE=DATE:20240207
SUMMARY:Presidential elections (Azerbaïdjan)
END:VEVENT
END:VCALENDAR