BEGIN:VCALENDAR
VERSION:2.0
PRODID:-//time.now/holidays//NONSGML v1.0//EN
BEGIN:VEVENT
UID:1a6b38f2-f915-48ea-9001-3e3b3ed23fb7
DTSTAMP:20260420T192843Z
DTSTART;VALUE=DATE:20261109
SUMMARY:National Flag Day (Azerbaïdjan)
END:VEVENT
END:VCALENDAR