BEGIN:VCALENDAR
VERSION:2.0
PRODID:-//time.now/holidays//NONSGML v1.0//EN
BEGIN:VEVENT
UID:bdebf78b-bcf5-4801-b799-c8c84f54c8e6
DTSTAMP:20260420T122940Z
DTSTART;VALUE=DATE:20260120
SUMMARY:Martyrs' Day (Azerbaïdjan)
END:VEVENT
END:VCALENDAR