BEGIN:VCALENDAR
VERSION:2.0
PRODID:-//time.now/holidays//NONSGML v1.0//EN
BEGIN:VEVENT
UID:04b49ce9-318f-4ac5-b89f-e3eecb2451c4
DTSTAMP:20260420T230904Z
DTSTART;VALUE=DATE:20261231
SUMMARY:International Azerbaijanis Solidarity Day (Azerbaïdjan)
END:VEVENT
END:VCALENDAR