BEGIN:VCALENDAR
VERSION:2.0
PRODID:-//time.now/holidays//NONSGML v1.0//EN
BEGIN:VEVENT
UID:8bd39af8-0723-4697-b692-42958485c899
DTSTAMP:20260420T095704Z
DTSTART;VALUE=DATE:20270528
SUMMARY:Independence Day (Azerbaïdjan)
END:VEVENT
END:VCALENDAR