BEGIN:VCALENDAR
VERSION:2.0
PRODID:-//time.now/holidays//NONSGML v1.0//EN
BEGIN:VEVENT
UID:85b4b99e-b12a-46b3-99ab-8c6d8451d091
DTSTAMP:20260420T185630Z
DTSTART;VALUE=DATE:20250330
SUMMARY:Eid al-Fitr (Azerbaïdjan)
END:VEVENT
END:VCALENDAR