BEGIN:VCALENDAR
VERSION:2.0
PRODID:-//time.now/holidays//NONSGML v1.0//EN
BEGIN:VEVENT
UID:17182600-03a6-464d-81ff-c1161463bae8
DTSTAMP:20260420T205211Z
DTSTART;VALUE=DATE:20250328
SUMMARY:Eid al-Fitr (observed) (Azerbaïdjan)
END:VEVENT
END:VCALENDAR