BEGIN:VCALENDAR
VERSION:2.0
PRODID:-//time.now/holidays//NONSGML v1.0//EN
BEGIN:VEVENT
UID:5d43ef64-df52-4b63-8a6f-b62cd66156b5
DTSTAMP:20260420T154231Z
DTSTART;VALUE=DATE:20250606
SUMMARY:Eid al-Adha (Azerbaïdjan)
END:VEVENT
END:VCALENDAR