BEGIN:VCALENDAR
VERSION:2.0
PRODID:-//time.now/holidays//NONSGML v1.0//EN
BEGIN:VEVENT
UID:ef466758-565b-4008-9bc3-00f93e790e56
DTSTAMP:20260420T213513Z
DTSTART;VALUE=DATE:20241113
SUMMARY:Day off (substituted from 11/23/2024) (Azerbaïdjan)
END:VEVENT
END:VCALENDAR