BEGIN:VCALENDAR
VERSION:2.0
PRODID:-//time.now/holidays//NONSGML v1.0//EN
BEGIN:VEVENT
UID:f3c5ac76-3fc0-4f08-b8a9-2e52692f91a4
DTSTAMP:20260422T193219Z
DTSTART;VALUE=DATE:20231110
SUMMARY:Day off (substituted from 11/04/2023) (Azerbaïdjan)
END:VEVENT
END:VCALENDAR