BEGIN:VCALENDAR
VERSION:2.0
PRODID:-//time.now/holidays//NONSGML v1.0//EN
BEGIN:VEVENT
UID:3f0e56d3-090f-4e88-8fbd-5af88bfc1a06
DTSTAMP:20260420T205130Z
DTSTART;VALUE=DATE:20230630
SUMMARY:Day off (substituted from 06/25/2023) (Azerbaïdjan)
END:VEVENT
END:VCALENDAR