BEGIN:VCALENDAR
VERSION:2.0
PRODID:-//time.now/holidays//NONSGML v1.0//EN
BEGIN:VEVENT
UID:a1cb6bbe-2e58-47c4-98bd-f40c96983a69
DTSTAMP:20260420T203439Z
DTSTART;VALUE=DATE:20240105
SUMMARY:Day off (substituted from 01/07/2024) (Azerbaïdjan)
END:VEVENT
END:VCALENDAR