BEGIN:VCALENDAR
VERSION:2.0
PRODID:-//time.now/holidays//NONSGML v1.0//EN
BEGIN:VEVENT
UID:d5724f4e-8916-482d-b005-58bd24f50919
DTSTAMP:20260420T104356Z
DTSTART;VALUE=DATE:20270628
SUMMARY:Armed Forces Day (observed) (Azerbaïdjan)
END:VEVENT
END:VCALENDAR