BEGIN:VCALENDAR
VERSION:2.0
PRODID:-//time.now/holidays//NONSGML v1.0//EN
BEGIN:VEVENT
UID:be8ad884-cdcc-430f-870f-ab881e672286
DTSTAMP:20260419T134741Z
DTSTART;VALUE=DATE:20261208
SUMMARY:Immaculate Conception (Autriche)
END:VEVENT
END:VCALENDAR