BEGIN:VCALENDAR
VERSION:2.0
PRODID:-//time.now/holidays//NONSGML v1.0//EN
BEGIN:VEVENT
UID:10876a95-7ac2-4b7b-bc4f-867a85f2f6b7
DTSTAMP:20260419T141918Z
DTSTART;VALUE=DATE:20260106
SUMMARY:Epiphany (Autriche)
END:VEVENT
END:VCALENDAR