BEGIN:VCALENDAR
VERSION:2.0
PRODID:-//time.now/holidays//NONSGML v1.0//EN
BEGIN:VEVENT
UID:b2cca414-4e96-459a-ad48-d2e23f58a1ed
DTSTAMP:20260420T051120Z
DTSTART;VALUE=DATE:20260604
SUMMARY:Corpus Christi (Autriche)
END:VEVENT
END:VCALENDAR