BEGIN:VCALENDAR
VERSION:2.0
PRODID:-//time.now/holidays//NONSGML v1.0//EN
BEGIN:VEVENT
UID:3332004a-6ac8-43b1-88e0-820d15907d6a
DTSTAMP:20260420T061055Z
DTSTART;VALUE=DATE:20260514
SUMMARY:Ascension Day (Autriche)
END:VEVENT
END:VCALENDAR