BEGIN:VCALENDAR
VERSION:2.0
PRODID:-//time.now/holidays//NONSGML v1.0//EN
BEGIN:VEVENT
UID:ed4d7668-b6d4-4192-afcc-77b731ad3de5
DTSTAMP:20260420T110250Z
DTSTART;VALUE=DATE:20261101
SUMMARY:All Saints' Day (Autriche)
END:VEVENT
END:VCALENDAR