BEGIN:VCALENDAR
VERSION:2.0
PRODID:-//time.now/holidays//NONSGML v1.0//EN
BEGIN:VEVENT
UID:af112c66-3cb7-4a0a-ae92-696677d298f6
DTSTAMP:20260422T134304Z
DTSTART;VALUE=DATE:20260812
SUMMARY:The Royal Queensland Show (Australie)
END:VEVENT
END:VCALENDAR