BEGIN:VCALENDAR
VERSION:2.0
PRODID:-//time.now/holidays//NONSGML v1.0//EN
BEGIN:VEVENT
UID:4fcf3f8e-b6cd-4605-a4af-01867b197fa0
DTSTAMP:20260420T095607Z
DTSTART;VALUE=DATE:20220613
SUMMARY:Queen's Birthday (Australie)
END:VEVENT
END:VCALENDAR