BEGIN:VCALENDAR
VERSION:2.0
PRODID:-//time.now/holidays//NONSGML v1.0//EN
BEGIN:VEVENT
UID:51184288-da20-4979-9a1e-0026c84d79aa
DTSTAMP:20260420T174905Z
DTSTART;VALUE=DATE:20280103
SUMMARY:New Year's Day (observed) (Australie)
END:VEVENT
END:VCALENDAR