BEGIN:VCALENDAR
VERSION:2.0
PRODID:-//time.now/holidays//NONSGML v1.0//EN
BEGIN:VEVENT
UID:73db9682-63d0-482e-b27a-a3e1020bf4ab
DTSTAMP:20260420T054533Z
DTSTART;VALUE=DATE:20261005
SUMMARY:Labor Day (Australie)
END:VEVENT
END:VCALENDAR