BEGIN:VCALENDAR
VERSION:2.0
PRODID:-//time.now/holidays//NONSGML v1.0//EN
BEGIN:VEVENT
UID:ca085744-289b-4acc-966b-160abbbd1c1d
DTSTAMP:20260420T115710Z
DTSTART;VALUE=DATE:20260925
SUMMARY:Grand Final Day (Australie)
END:VEVENT
END:VCALENDAR