BEGIN:VCALENDAR
VERSION:2.0
PRODID:-//time.now/holidays//NONSGML v1.0//EN
BEGIN:VEVENT
UID:0a1a9fad-fa01-47b4-9b82-3108a83ad258
DTSTAMP:20260420T055246Z
DTSTART;VALUE=DATE:20260404
SUMMARY:Easter Saturday (Australie)
END:VEVENT
END:VCALENDAR