BEGIN:VCALENDAR
VERSION:2.0
PRODID:-//time.now/holidays//NONSGML v1.0//EN
BEGIN:VEVENT
UID:26e1f9b5-6fd1-4fea-a595-384f0b60668d
DTSTAMP:20260420T010527Z
DTSTART;VALUE=DATE:20260406
SUMMARY:Easter Monday (Australie)
END:VEVENT
END:VCALENDAR