BEGIN:VCALENDAR
VERSION:2.0
PRODID:-//time.now/holidays//NONSGML v1.0//EN
BEGIN:VEVENT
UID:ee356a37-94a2-46fc-9ee9-d38cf25f303f
DTSTAMP:20260420T062123Z
DTSTART;VALUE=DATE:20260425
SUMMARY:ANZAC Day (Australie)
END:VEVENT
END:VCALENDAR