BEGIN:VCALENDAR
VERSION:2.0
PRODID:-//time.now/holidays//NONSGML v1.0//EN
BEGIN:VEVENT
UID:c14d0ff3-8045-4a1c-88ba-8b0a3131b309
DTSTAMP:20260420T113135Z
DTSTART;VALUE=DATE:20260427
SUMMARY:ANZAC Day (observed) (Australie)
END:VEVENT
END:VCALENDAR