BEGIN:VCALENDAR
VERSION:2.0
PRODID:-//time.now/holidays//NONSGML v1.0//EN
BEGIN:VEVENT
UID:5f3efd1c-9ffe-43be-87aa-993f6cfb8a90
DTSTAMP:20260420T054209Z
DTSTART;VALUE=DATE:20210425
SUMMARY:Additional public holiday (Australie)
END:VEVENT
END:VCALENDAR