BEGIN:VCALENDAR
VERSION:2.0
PRODID:-//time.now/holidays//NONSGML v1.0//EN
BEGIN:VEVENT
UID:de5cf8ff-98cd-4767-8b72-ab053a321535
DTSTAMP:20260420T011512Z
DTSTART;VALUE=DATE:20260501
SUMMARY:Labor Day (Aruba)
END:VEVENT
END:VCALENDAR