BEGIN:VCALENDAR
VERSION:2.0
PRODID:-//time.now/holidays//NONSGML v1.0//EN
BEGIN:VEVENT
UID:47b088d5-6420-422f-8986-fcc06b26f56d
DTSTAMP:20260420T103055Z
DTSTART;VALUE=DATE:20220228
SUMMARY:Carnival Monday (Aruba)
END:VEVENT
END:VCALENDAR