BEGIN:VCALENDAR
VERSION:2.0
PRODID:-//time.now/holidays//NONSGML v1.0//EN
BEGIN:VEVENT
UID:cbef03dd-07cc-4c73-a6ea-380383f0fb5c
DTSTAMP:20260420T153537Z
DTSTART;VALUE=DATE:20260308
SUMMARY:Women's Day (Arménie)
END:VEVENT
END:VCALENDAR